BEGIN:VCALENDAR
VERSION:2.0
CALSCALE:GREGORIAN
BEGIN:VEVENT
SUMMARY:Beginners Course 4th September - 9th October
DTSTART;TZID=Pacific/Auckland:20230911T193000
DTEND;TZID=Pacific/Auckland:20230911T203000
LOCATION:The Yoga Studio
DESCRIPTION: 
STATUS:CONFIRMED
SEQUENCE:0
END:VEVENT
END:VCALENDAR