BEGIN:VCALENDAR
VERSION:2.0
CALSCALE:GREGORIAN
BEGIN:VEVENT
SUMMARY:Hatha Flow
DTSTART;TZID=Pacific/Auckland:20230221T180000
DTEND;TZID=Pacific/Auckland:20230221T190000
LOCATION:The Yoga Studio
DESCRIPTION: A dynamic and medium paced class using flowing sequences with focus on your breath to guide your movements and cultivate a mindfulness practice that benefits you on and off your mat. Suitable for all levels.
STATUS:CONFIRMED
SEQUENCE:0
END:VEVENT
END:VCALENDAR