BEGIN:VCALENDAR
VERSION:2.0
CALSCALE:GREGORIAN
BEGIN:VEVENT
SUMMARY:Starborn Yin
DTSTART;TZID=America/Chicago:20251009T191500
DTEND;TZID=America/Chicago:20251009T200000
LOCATION:Yoga Room
DESCRIPTION: Wind down with yin. In yin yoga, asanas are held from 3-5 minutes to the point of discomfort; this allows a deeper stretch of the fascia and connective tissues, as well as a deeper connection between mind, body, and soul.
STATUS:CONFIRMED
SEQUENCE:0
END:VEVENT
END:VCALENDAR