BEGIN:VCALENDAR
VERSION:2.0
CALSCALE:GREGORIAN
BEGIN:VEVENT
SUMMARY:Card Reading
DTSTART;TZID=America/Chicago:20260328T140000
DTEND;TZID=America/Chicago:20260328T150000
LOCATION:
DESCRIPTION: 1 Hour card reading session with Nicole.
STATUS:CONFIRMED
SEQUENCE:0
END:VEVENT
END:VCALENDAR