BEGIN:VCALENDAR
VERSION:2.0
CALSCALE:GREGORIAN
BEGIN:VEVENT
SUMMARY:BOGA - Beginners
DTSTART;TZID=America/Chicago:20251011T110000
DTEND;TZID=America/Chicago:20251011T114500
LOCATION:
DESCRIPTION: Reduce stress and frustration through a meditative mixture of boxing and yoga! Warm up with yogic stretching, then release pent up emotions through boxing drills combined with asanas, and bring it all together with a soothing savasana. This class is more slow paced.
STATUS:CONFIRMED
SEQUENCE:0
END:VEVENT
END:VCALENDAR