BEGIN:VCALENDAR
VERSION:2.0
CALSCALE:GREGORIAN
BEGIN:VEVENT
SUMMARY:Prenatal Yoga Date Night Couples Workshop
DTSTART;TZID=America/Chicago:20240216T180000
DTEND;TZID=America/Chicago:20240216T200000
LOCATION:The Motherhood Collective Studio
DESCRIPTION: Join The Motherhood Collective for an embodied evening of intimacy and connection with your partner, designed to strengthen your bond prior to birth and becoming new parents. 
Led by Corinne Jandrt (prenatal yoga teacher) and Erin Edwards (IBCLC, massage therapist, childbirth educator), this 2-hour Workshop features instruction in couples massage and partner yoga poses as well as a space to explore communication, breath,  movement, and physical touch with your partner. And since it&#039;s so close to Valentine&#039;s, we&#039;re giving it a fun, date night vibe and serving up some snacks and drinks! We know you&#039;ll leave this date night feeling more confident and connected in your relationship.

$55 per couple
STATUS:CONFIRMED
SEQUENCE:0
END:VEVENT
END:VCALENDAR