BEGIN:VCALENDAR
VERSION:2.0
CALSCALE:GREGORIAN
BEGIN:VEVENT
SUMMARY:Celebration of Motherhood Event
DTSTART;TZID=America/Chicago:20240505T100000
DTEND;TZID=America/Chicago:20240505T130000
LOCATION:The Motherhood Collective Studio
DESCRIPTION: Join Emily Sustar of The Motherhood Collective and Bethany Tracy of Amaris Healing for a special event celebrating mothers of all ages &amp;amp; phases. Our gift to you this Mother&#039;s Day is a collective space for honoring self love, community and connection. Let’s celebrate YOU with a yoga flow and a healing guided meditation supporting and empowering every mama; from planning of conception, pregnancy, postpartum, mothers of loss, adoptive mothers, to grandmothers and everything in between.

90 minutes of yoga + healing meditation will be followed with brunch, coffee, tea, and treats,  from local vendors. Gifts from local mama-owned businesses will be given away as well!

This is a perfect gift to yourself or another mama in your life this Mother&#039;s Day, the sweetest Girl&#039;s Day activity, or a great way to support your partner, Dad&#039;s!

So grab your favorite mom friends or mothers and join us to celebrate the real MVPs - MOMS!

$45 early bird discount
$55 after 4/5

At the Black River Beach Community Center
1433 Rose Street
La Crosse, WI 54603
STATUS:CONFIRMED
SEQUENCE:0
END:VEVENT
END:VCALENDAR