BEGIN:VCALENDAR
VERSION:2.0
CALSCALE:GREGORIAN
BEGIN:VEVENT
SUMMARY:Partner Prenatal Yoga
DTSTART;TZID=America/Chicago:20250219T180000
DTEND;TZID=America/Chicago:20250219T190000
LOCATION:The Motherhood Collective Studio
DESCRIPTION: There is no doubt you will want to reach out to your partner during labor for support. 
This partner class will help explore simple poses, movement and breath that you can do together before labor or as it comes along.
The goal for this class is to build skills to ease the mind and build connection with your partner during the transition to parenthood.  
Class packages apply!
STATUS:CONFIRMED
SEQUENCE:0
END:VEVENT
END:VCALENDAR