BEGIN:VCALENDAR
VERSION:2.0
CALSCALE:GREGORIAN
BEGIN:VEVENT
SUMMARY:Restful Sunday Series: Warm Restore
DTSTART;TZID=Europe/London:20250202T190000
DTEND;TZID=Europe/London:20250202T201500
LOCATION:The Studio Wellness
DESCRIPTION: Restful Sundays: A Restorative Yoga Practice

End your weekend with deep relaxation and
calm in our warm, candlelit studio. This restorative yoga class is designed to ease tension and replenish your energy, featuring gentle poses supported by props to promote complete relaxation.

Expect minimal que’s, soothing breathwork, mindfulness, and a safe environment to help you transition into the week ahead feeling grounded and renewed.

We end with a 15 minute Yoga Nidra practice… blissful.

Perfect for all levels, this session is your time to pause, restore, and nurture yourself.

Come as you are and leave with a sense of peace and ease.

6 Sundays
Jan: 5th, 12th, 19th and 26th**note time change
Feb: 2nd and 9th
STATUS:CONFIRMED
SEQUENCE:0
END:VEVENT
END:VCALENDAR