BEGIN:VCALENDAR
VERSION:2.0
CALSCALE:GREGORIAN
BEGIN:VEVENT
SUMMARY:Quartz Crystal Sound Bath
DTSTART;TZID=Europe/London:20250202T150000
DTEND;TZID=Europe/London:20250202T160000
LOCATION:The Studio Wellness
DESCRIPTION: A Sound Bath is a holistic session that completely bathes you in the sound waves and vibrations created by a Sound Bath Practitioner. This can help you heal both physically and mentally bringing your body into balance. What can Sound Baths help with? Anxiety, stress, balance your energy centres (chakras), inflammation (huge cause of physical illnesses) emotional healing, emotional release, build self confidence and creativity, improve your sleep, reduces physical pain and increases spiritual connection.
STATUS:CONFIRMED
SEQUENCE:0
END:VEVENT
END:VCALENDAR