BEGIN:VCALENDAR
VERSION:2.0
CALSCALE:GREGORIAN
BEGIN:VEVENT
SUMMARY:OUTDOOR: Vinyasa Flow &amp; Meditation
DTSTART;TZID=Europe/Amsterdam:20230615T183000
DTEND;TZID=Europe/Amsterdam:20230615T194500
LOCATION:Sportplatz, Kolleg St. Thomas
DESCRIPTION: DIESE STUNDE FINDET IM GRÜNEN STATT :)!
Die Stunde findet auf dem Sportplatz beim Kolleg St. Thomas, Vechta statt. Ihr könnt am besten über den Dominikanerweg anfahren und dann direkt vor dem Sportplatz parken.

Was du für die Outdoor-Stunde benötigst:

- eine Yogamatte 
- etwas zu trinken
- optional einen Yogablock und/oder deine Decke
- ggf. Sonnencreme :)


Kursbeschreibung:
Vinyasa ist ein dynamischer Yoga-Stil, der Atmung und Bewegung in Einklang bringt. Dich erwartet ein kreativer, kraftvoller Flow, der verschiedene Asanas natürlich fließend verbindet.
Der Kurs beinhaltet eine 15-minütige Meditationspraxis.
STATUS:CONFIRMED
SEQUENCE:0
END:VEVENT
END:VCALENDAR