BEGIN:VCALENDAR
VERSION:2.0
CALSCALE:GREGORIAN
BEGIN:VEVENT
SUMMARY:Gentle Flow
DTSTART;TZID=Australia/Sydney:20251210T183000
DTEND;TZID=Australia/Sydney:20251210T193000
LOCATION:
DESCRIPTION: Learn to synchronise breath with movement as you explore poses designed to enhance balance, strength, flexibility, and mobility.
Incorporating mindfulness techniques, you’ll deepen your awareness and presence on the mat. This class is open to all levels, creating a supportive space for both beginners and experienced practitioners alike.
Join us as we journey together towards greater well-being and inner peace through the practice of yoga. Your mat awaits you in our inclusive and welcoming community!
STATUS:CONFIRMED
SEQUENCE:0
END:VEVENT
END:VCALENDAR