BEGIN:VCALENDAR
VERSION:2.0
CALSCALE:GREGORIAN
BEGIN:VEVENT
SUMMARY:LAST CLASS OF 2021 Vinyasa Flow to Slow - In studio
DTSTART;TZID=Europe/London:20211231T093000
DTEND;TZID=Europe/London:20211231T103000
LOCATION:Yoga barn Glasgow
DESCRIPTION: Show yourself some love on this last day of an epic year. Flow to the rhythm of your heart and the beat of your breath. Use the class to energise and balance your mind and body. We will link the breath to the movement , play with some balancing postures and flow through a standing sequence followed by some gentle grounding seated postures. We will pause for reflection and letting go to make way for new beginnings.
STATUS:CONFIRMED
SEQUENCE:0
END:VEVENT
END:VCALENDAR