BEGIN:VCALENDAR
VERSION:2.0
CALSCALE:GREGORIAN
BEGIN:VEVENT
SUMMARY:Charity Yoga Class - With Kath Pick  - Online
DTSTART;TZID=Europe/London:20211215T203000
DTEND;TZID=Europe/London:20211215T213000
LOCATION:Yoga barn Glasgow
DESCRIPTION: Focussing on moving your body to the flow of your own breath.
-Building Strength and stamina for your body and mind
-Relaxation and meditation
STATUS:CONFIRMED
SEQUENCE:0
END:VEVENT
END:VCALENDAR