BEGIN:VCALENDAR
VERSION:2.0
CALSCALE:GREGORIAN
BEGIN:VEVENT
SUMMARY:Sunset Yoga - Steady Stretch/Restorative
DTSTART;TZID=America/New_York:20250728T200000
DTEND;TZID=America/New_York:20250728T211500
LOCATION:
DESCRIPTION: Join us in this pop-up class to celebrate the beauty of summer sunsets. We will move our practice outside the studio with slow mindful movement and calming breath. This class will create a feeling of peaceful release of the day as we practice a restorative rest as the sun sets into dusk.
STATUS:CONFIRMED
SEQUENCE:0
END:VEVENT
END:VCALENDAR