BEGIN:VCALENDAR
VERSION:2.0
CALSCALE:GREGORIAN
BEGIN:VEVENT
SUMMARY:Vinyasa I -
DTSTART;TZID=America/New_York:20210314T130000
DTEND;TZID=America/New_York:20210314T141500
LOCATION:1100 Brandywine Blvd building B, Zanesville, OH 43701
DESCRIPTION: Join Sandy in this fun Vinyasa level I class that will build strength and balance in your body and mind. Using breath work to link the mind to the movement, Vinyasa I is the perfect class to grow your practice.
STATUS:CONFIRMED
SEQUENCE:0
END:VEVENT
END:VCALENDAR