BEGIN:VCALENDAR
VERSION:2.0
CALSCALE:GREGORIAN
BEGIN:VEVENT
SUMMARY:**CLASS CANCELLED FOR AVON DESCENT**
DTSTART;TZID=Australia/Perth:20210814T070000
DTEND;TZID=Australia/Perth:20210814T080000
LOCATION:The Yoga Lounge
DESCRIPTION: Our Saturday Power Yoga class is cancelled for today due to the Avon Descent race start being supported by us and our families at this time. We look forward to seeing you next week!
STATUS:CONFIRMED
SEQUENCE:0
END:VEVENT
END:VCALENDAR