BEGIN:VCALENDAR
VERSION:2.0
CALSCALE:GREGORIAN
BEGIN:VEVENT
SUMMARY:Kids Yoga - Kindy to Yr4
DTSTART;TZID=Australia/Perth:20210916T153000
DTEND;TZID=Australia/Perth:20210916T161500
LOCATION:The Yoga Lounge
DESCRIPTION: Open to children from Kindy to Year 4. This 45 minute class is designed to integrate body-breath awareness through a very special and playful yoga practice which is age-appropriate for these very young and growing bodies.
STATUS:CONFIRMED
SEQUENCE:0
END:VEVENT
END:VCALENDAR