BEGIN:VCALENDAR
VERSION:2.0
CALSCALE:GREGORIAN
BEGIN:VEVENT
SUMMARY:Access Bars with Theresa
DTSTART;TZID=Australia/Perth:20210726T120000
DTEND;TZID=Australia/Perth:20210726T133000
LOCATION:The Yoga Lounge
DESCRIPTION: 
STATUS:CONFIRMED
SEQUENCE:0
END:VEVENT
END:VCALENDAR