BEGIN:VCALENDAR
VERSION:2.0
CALSCALE:GREGORIAN
BEGIN:VEVENT
SUMMARY:Slow Flow Yoga
DTSTART;TZID=Australia/Perth:20211021T173000
DTEND;TZID=Australia/Perth:20211021T183000
LOCATION:The Yoga Lounge
DESCRIPTION: Hatha-Vinyasa combination of moving mindfully, transitioning slowly and building strength, stamina and discipline.
STATUS:CONFIRMED
SEQUENCE:0
END:VEVENT
END:VCALENDAR