BEGIN:VCALENDAR
VERSION:2.0
CALSCALE:GREGORIAN
BEGIN:VEVENT
SUMMARY:Prenatal Yoga
DTSTART;TZID=Australia/Perth:20210306T093000
DTEND;TZID=Australia/Perth:20210306T104500
LOCATION:The Yoga Lounge
DESCRIPTION: Our Prenatal classes offer a gentle practice for tension relief, strength and calm as you adjust with your growing baby and prepare your body and your mind for delivery and motherhood. Suitable for all levels.
STATUS:CONFIRMED
SEQUENCE:0
END:VEVENT
END:VCALENDAR