BEGIN:VCALENDAR
VERSION:2.0
CALSCALE:GREGORIAN
BEGIN:VEVENT
SUMMARY:Power Vinyasa Yoga (online via Zoom)
DTSTART;TZID=Europe/London:20221004T181500
DTEND;TZID=Europe/London:20221004T191500
LOCATION:the Yoga Spot
DESCRIPTION: This class is online via Zoom. Students must have already attended regular Power Vinyasa classes with us in the studio before attending our online classes.
STATUS:CONFIRMED
SEQUENCE:0
END:VEVENT
END:VCALENDAR