BEGIN:VCALENDAR
VERSION:2.0
CALSCALE:GREGORIAN
BEGIN:VEVENT
SUMMARY:Yin/Restorative &amp; Pranayama
DTSTART;TZID=Europe/London:20221120T100000
DTEND;TZID=Europe/London:20221120T113000
LOCATION:the Yoga Spot
DESCRIPTION: A very gentle class for all level of yoga practitioner. Especially for those wishing to develop Pranayama techniques (breathing exercises). We will use bolsters, blocks and blankets in this class (if you have your own please do take them with you).
STATUS:CONFIRMED
SEQUENCE:0
END:VEVENT
END:VCALENDAR