BEGIN:VCALENDAR
VERSION:2.0
CALSCALE:GREGORIAN
BEGIN:VEVENT
SUMMARY:🕊️ Hatha Slow
DTSTART;TZID=Europe/Amsterdam:20250623T183000
DTEND;TZID=Europe/Amsterdam:20250623T200000
LOCATION:Flevoweg 75 Kampen
DESCRIPTION: Deze rustige les richt zich op het bekkengebied en ondersteunt het lichaam bij ontspanning en herstel. We werken met heupopeners, rugoefeningen en zachte strekkingen, vaak met behulp van yoga-attributen zoals bolsters, kussens of blokken. Deze les is ideaal voor extra ondersteuning en ontspanning.

Effect: Verbetering van houding, soepelheid in spieren en gewrichten, diepe ontspanning en rust.
75 min les en 15 min thee en afronding. Niveau: Beginners. Les min 2 deelnemers max 8.
STATUS:CONFIRMED
SEQUENCE:0
END:VEVENT
END:VCALENDAR