BEGIN:VCALENDAR
VERSION:2.0
CALSCALE:GREGORIAN
BEGIN:VEVENT
SUMMARY:Zomerafsluiting – een avond van dankbaarheid en verbinding
DTSTART;TZID=Europe/Amsterdam:20250704T200000
DTEND;TZID=Europe/Amsterdam:20250704T220000
LOCATION:Flevoweg 75 Kampen
DESCRIPTION: Een zachte yoga-avond als dankjewel en afscheid voor de zomerstop. (Net als de kerstafsluiting).

Voor wie een lopende strippenkaart heeft: jouw plek is op uitnodiging. Een avond om samen te zakken in rust, met hartsverbinding, zachte beweging en warme aanwezigheid.

Neem iets lekkers mee om te delen – ik zorg ook voor iets fijns en voedends. Vol is vol – er is plek voor acht deelnemers.

Geen proeflesavond – alleen toegankelijk voor bestaande klanten met een lopende strippenkaart.
STATUS:CONFIRMED
SEQUENCE:0
END:VEVENT
END:VCALENDAR