BEGIN:VCALENDAR
VERSION:2.0
CALSCALE:GREGORIAN
BEGIN:VEVENT
SUMMARY:Slow down &amp; Relax
DTSTART;TZID=Australia/Perth:20260607T110000
DTEND;TZID=Australia/Perth:20260607T120000
LOCATION:Online
DESCRIPTION: Let&#039;s take a break together. Calm your mind and body from your own home.

Meditation, journaling &amp; gentle stretching. No experience needed and open to all. ✨
STATUS:CONFIRMED
SEQUENCE:0
END:VEVENT
END:VCALENDAR