BEGIN:VCALENDAR
VERSION:2.0
CALSCALE:GREGORIAN
BEGIN:VEVENT
SUMMARY:Stoelyoga
DTSTART;TZID=Europe/Brussels:20260609T100000
DTEND;TZID=Europe/Brussels:20260609T111500
LOCATION:the Studiyo
DESCRIPTION: Stoelyoga is een volwaardige vorm van yoga, waarbij de meeste yogahoudingen gedaan worden, zittend op een stoel of rechtstaand. Voor mensen die het wat moeilijker hebben om lang op de grond te zitten of knieproblemen hebben, kan dit een mogelijkheid zijn om toch aan yoga te doen.
STATUS:CONFIRMED
SEQUENCE:0
END:VEVENT
END:VCALENDAR