BEGIN:VCALENDAR
VERSION:2.0
CALSCALE:GREGORIAN
BEGIN:VEVENT
SUMMARY:Kakao &amp; Klang mit Kathi &amp; Jana
DTSTART;TZID=Europe/Berlin:20250628T190000
DTEND;TZID=Europe/Berlin:20250628T220000
LOCATION:Seestraße 28, Lembruch
DESCRIPTION: Entdecke die Welt des Ritual-Kakaos und lass dich von einer Klangreise begleiten, die dich sanft zurück in deinen inneren Fluss führt.
Die schwingenden Töne der Klangschalen laden dich ein, loszulassen, zu empfangen und dich dem natürlichen Rhythmus des Lebens hinzugeben.
Durch achtsame somatische Übungen wie Klopfen und Schütteln öffnen wir den Körper für die heilsamen Impulse – ein Raum für Herz, Körper und Seele, um ganz im Moment zu sein und einfach zu fließen.
Mit Jana &amp;amp; Kathi

Mit deiner Buchung bestätigst du unsere AGB.
Die Bezahlung erfolgt ausschließlich in bar vor Ort am Abend der Zeremonie.
STATUS:CONFIRMED
SEQUENCE:0
END:VEVENT
END:VCALENDAR