BEGIN:VCALENDAR
VERSION:2.0
CALSCALE:GREGORIAN
BEGIN:VEVENT
SUMMARY:Restorative Yoga
DTSTART;TZID=Europe/Berlin:20250805T200000
DTEND;TZID=Europe/Berlin:20250805T210000
LOCATION:Seestraße 28, Lembruch
DESCRIPTION: Restorative Yoga ist eine sanfte, regenerierende Praxis, die Körper und Geist in einen Zustand tiefer Entspannung versetzt. Durch lange gehaltene, unterstützte Positionen und bewusste Atmung hilft es, Stress abzubauen, das Nervensystem zu beruhigen und neue Energie zu tanken. Perfekt für alle, die Entschleunigung und Erholung suchen.

KURSBLOCK:
Dienstag 15.07.-12.08. : 70€
Hansefit &amp; E-Gym: kostenlos

Ort
Seestraße 28, Lembruch, studio
STATUS:CONFIRMED
SEQUENCE:0
END:VEVENT
END:VCALENDAR