BEGIN:VCALENDAR
VERSION:2.0
CALSCALE:GREGORIAN
BEGIN:VEVENT
SUMMARY:Sensual Yoga - Annelies
DTSTART;TZID=Europe/Brussels:20251116T100000
DTEND;TZID=Europe/Brussels:20251116T113000
LOCATION:The Yoga Bar
DESCRIPTION: 
STATUS:CONFIRMED
SEQUENCE:0
END:VEVENT
END:VCALENDAR