BEGIN:VCALENDAR
VERSION:2.0
CALSCALE:GREGORIAN
BEGIN:VEVENT
SUMMARY:Yin Yoga
DTSTART;TZID=Europe/Brussels:20260211T200000
DTEND;TZID=Europe/Brussels:20260211T211500
LOCATION:The Yoga Bar
DESCRIPTION: Yin yoga werkt in op de dieperliggende weefsels van het lichaam en de fascia. Door voornamelijk zittende en liggende yogahoudingen langer aan te houden, kunnen deze weefsels echt ontspannen. Zorg voor een extra kledinglaagje en dekentje. Breng ook een kussen en eventueel een badhanddoek om op te rollen mee ter ondersteuning. Je kan ook bolsters, kussens en dekens uit de studio gebruiken.
STATUS:CONFIRMED
SEQUENCE:0
END:VEVENT
END:VCALENDAR