BEGIN:VCALENDAR
VERSION:2.0
CALSCALE:GREGORIAN
BEGIN:VEVENT
SUMMARY:Vinyasa Yoga met Anneleen
DTSTART;TZID=Europe/Brussels:20241205T193000
DTEND;TZID=Europe/Brussels:20241205T204500
LOCATION:The Yoga Bar
DESCRIPTION: Anneleen kwam tijdens haar studies Psychologie in aanraking met yoga om zowel lichamelijk als geestelijk tot rust te komen. Nadat ze 10 jaar zelf regelmatig yogalessen volgde, begon ze in 2023 aan een 200 uur Vinyasa yoga-opleiding. Ze studeerde af in 2024 en geeft sindsdien ook les. Vinyasa yoga is een stijl waarbij je van de ene naar de andere houding vloeit op het ritme van je ademhaling. Omdat er gedurende de yogales steeds verschillende opties binnen een bepaalde houding gegeven worden, zijn de lessen toegankelijk. In de Vinyasa s
STATUS:CONFIRMED
SEQUENCE:0
END:VEVENT
END:VCALENDAR