BEGIN:VCALENDAR
VERSION:2.0
CALSCALE:GREGORIAN
BEGIN:VEVENT
SUMMARY:Vinyasa Fortgeschritten
DTSTART;TZID=Europe/Berlin:20260415T200000
DTEND;TZID=Europe/Berlin:20260415T211500
LOCATION:Bürgerhaus Aidenbach
DESCRIPTION: Fliessend (Flow), dynamisch, Einführung in anspruchsvollere Positionen
STATUS:CONFIRMED
SEQUENCE:0
END:VEVENT
END:VCALENDAR