BEGIN:VCALENDAR
VERSION:2.0
CALSCALE:GREGORIAN
BEGIN:VEVENT
SUMMARY:Soft Yoga (sanftes Hatha Yoga)
DTSTART;TZID=Europe/Berlin:20260429T171500
DTEND;TZID=Europe/Berlin:20260429T181500
LOCATION:Bürgerhaus Aidenbach
DESCRIPTION: Sanftes Yoga mit Fokus auf bewusster Körperwahrnehmung und sanfter Mobilisierung (auch für Mamis ab 6 Wochen nach der Geburt geeignet)
STATUS:CONFIRMED
SEQUENCE:0
END:VEVENT
END:VCALENDAR