BEGIN:VCALENDAR
VERSION:2.0
CALSCALE:GREGORIAN
BEGIN:VEVENT
SUMMARY:Aerial Yoga Worshop 4/4 - Fortgeschrittene Anfänger
DTSTART;TZID=Europe/Berlin:20260404T154500
DTEND;TZID=Europe/Berlin:20260404T171500
LOCATION:Studio Blackstage
DESCRIPTION: Aerial Yoga verbindet Leichtigkeit, Kraft und spielerische Neugier – und ist gleichzeitig unglaublich wohltuend für Rücken, Gelenke und Nervensystem.
In dieser 4-teiligen Workshop-Reihe bauen wir auf den bereits vorhandenen Grundlagen auf und gehen etwas weiter in Richtung fortgeschrittenere Positionen und erste, einfache akrobatische Übungen. 
Preis: 25€ pro Einheit oder 90€ für alle 4 Einheiten (Bezahlung bar vor Ort)
Bei Stornierung weniger als 12 Stunden vor Kursbeginn wird der volle Kurspreis fällig. Mitglieder mit Monats-Abo zahlen bei zu später Stornierung eine Storno-Gebühr i.H.v. 5€.
STATUS:CONFIRMED
SEQUENCE:0
END:VEVENT
END:VCALENDAR