BEGIN:VCALENDAR
VERSION:2.0
CALSCALE:GREGORIAN
BEGIN:VEVENT
SUMMARY:Yoga Kids Español
DTSTART;TZID=America/Panama:20250922T170000
DTEND;TZID=America/Panama:20250922T180000
LOCATION:
DESCRIPTION: Clases lúdicas y dinámicas diseñadas para niños. Se fomenta el movimiento, la atención y la confianza.
Edad: 6 a 12
STATUS:CONFIRMED
SEQUENCE:0
END:VEVENT
END:VCALENDAR