BEGIN:VCALENDAR
VERSION:2.0
CALSCALE:GREGORIAN
BEGIN:VEVENT
SUMMARY:Yoga en el Parque con Moy
DTSTART;TZID=America/Panama:20260301T080000
DTEND;TZID=America/Panama:20260301T090000
LOCATION:
DESCRIPTION: Acompáñanos en Parque Rach
STATUS:CONFIRMED
SEQUENCE:0
END:VEVENT
END:VCALENDAR