BEGIN:VCALENDAR
VERSION:2.0
CALSCALE:GREGORIAN
BEGIN:VEVENT
SUMMARY:Balance de Brazos &amp; Invertidas
DTSTART;TZID=America/Panama:20251206T100000
DTEND;TZID=America/Panama:20251206T123000
LOCATION:
DESCRIPTION: Aprende técnica, fuerza y confianza
STATUS:CONFIRMED
SEQUENCE:0
END:VEVENT
END:VCALENDAR