BEGIN:VCALENDAR
VERSION:2.0
CALSCALE:GREGORIAN
BEGIN:VEVENT
SUMMARY:Closed for xmas period - from 24th December to 3rd of Janurary 2024
DTSTART;TZID=Australia/Sydney:20231224T155500
DTEND;TZID=Australia/Sydney:20231224T165500
LOCATION:Studio
DESCRIPTION: We are closed from the 24th to 3rd January 2024. Happy holidays to everyone.
STATUS:CONFIRMED
SEQUENCE:0
END:VEVENT
END:VCALENDAR