BEGIN:VCALENDAR
VERSION:2.0
CALSCALE:GREGORIAN
BEGIN:VEVENT
SUMMARY:Family Yoga at First Plymouth Church
DTSTART;TZID=America/Denver:20230604T083000
DTEND;TZID=America/Denver:20230604T093000
LOCATION:First Plymouth Church
DESCRIPTION: 
STATUS:CONFIRMED
SEQUENCE:0
END:VEVENT
END:VCALENDAR