BEGIN:VCALENDAR
VERSION:2.0
CALSCALE:GREGORIAN
BEGIN:VEVENT
SUMMARY:Allerheiligen - geen les vandaag
DTSTART;TZID=Europe/Brussels:20251101T110000
DTEND;TZID=Europe/Brussels:20251101T120000
LOCATION:Time2Yoga
DESCRIPTION: Als opwarming combineren we niet-klassieke yoga houdingen met echte yogahoudingen om een of meerdere delen van het lichaam te mobiliseren en stabiliseren. Naast Core-stabiliteit als basis kunnen bvb de schouders een focus zijn. Dan volgt een vaste dynamische sequentie waarbij het ganse lichaam wordt uitgedaagd. 
We werken aan flexibiliteit, mobiliteit, stabiliteit en focus. 
Pittige les, voor wie al kennis gemaakt heeft met yoga en van een uitdaging houdt.
STATUS:CONFIRMED
SEQUENCE:0
END:VEVENT
END:VCALENDAR