BEGIN:VCALENDAR
VERSION:2.0
CALSCALE:GREGORIAN
BEGIN:VEVENT
SUMMARY:FUNDAMENTALS II - Dancer’s Pose - mini workshop
DTSTART;TZID=Europe/Brussels:20251008T183000
DTEND;TZID=Europe/Brussels:20251008T193000
LOCATION:Time2Yoga
DESCRIPTION: 5. Dancer’s Pose (Natarajasana)
Een prachtige mix van balans, kracht en flexibiliteit. Je ontdekt hoe achteroverbuigen niet forceren hoeft te zijn, maar gracieus en gecontroleerd kan aanvoelen.
STATUS:CONFIRMED
SEQUENCE:0
END:VEVENT
END:VCALENDAR