BEGIN:VCALENDAR
VERSION:2.0
CALSCALE:GREGORIAN
BEGIN:VEVENT
SUMMARY:FUNDAMENTALS II - Wheel Pose - mini workshop
DTSTART;TZID=Europe/Brussels:20251015T183000
DTEND;TZID=Europe/Brussels:20251015T193000
LOCATION:Time2Yoga
DESCRIPTION: 
STATUS:CONFIRMED
SEQUENCE:0
END:VEVENT
END:VCALENDAR