BEGIN:VCALENDAR
VERSION:2.0
CALSCALE:GREGORIAN
BEGIN:VEVENT
SUMMARY:WORKSHOP BACKBENDING
DTSTART;TZID=Europe/Brussels:20251120T190000
DTEND;TZID=Europe/Brussels:20251120T210000
LOCATION:Time2Yoga
DESCRIPTION: Backbends zijn zoveel meer dan gewoon “je rug buigen”.
In deze workshop duiken we in de voorbereiding, techniek én vrijheid van houdingen zoals Dancer’s Pose en Wheel Pose.
Wat mag je verwachten?
✨ Je leert veilig en gecontroleerd achterover te buigen
✨ We bouwen stap voor stap op naar diepe heart openers
✨ Focus op balans tussen kracht, mobiliteit en ademhaling
✨ Zowel voor beginners als gevorderde yogi’s – jij werkt op jouw niveau
 “Met de juiste voorbereiding voelt achteroverbuigen niet geforceerd, maar juist bevrijdend.”
STATUS:CONFIRMED
SEQUENCE:0
END:VEVENT
END:VCALENDAR