BEGIN:VCALENDAR
VERSION:2.0
CALSCALE:GREGORIAN
BEGIN:VEVENT
SUMMARY:Mind Walk
DTSTART;TZID=Europe/Amsterdam:20210903T183000
DTEND;TZID=Europe/Amsterdam:20210903T193000
LOCATION:Duinen in de Zilk
DESCRIPTION: Mindful wandelen, gecombineerd met invloeden uit de tai chi / yoga, ontspanningsoefeningen, ademhalingsoefeningen en meditatie. Deze oefeningen zijn geïntegreerd in een wandeling van ongeveer 3 tot max. 5 km per keer, onder begeleiding van een coach. Het is een veilige, effectieve manier om je gezondheid en fitheid te verbeteren, zowel geschikt voor beginnende als gevorderde wandelaars van alle conditieniveaus.
 Mindful wandelend met invloeden uit yoga en meditatie. Een heerlijke combinatie!
STATUS:CONFIRMED
SEQUENCE:0
END:VEVENT
END:VCALENDAR