BEGIN:VCALENDAR
VERSION:2.0
CALSCALE:GREGORIAN
BEGIN:VEVENT
SUMMARY:*Special Meditation*
DTSTART;TZID=Europe/Tirane:20191206T170000
DTEND;TZID=Europe/Tirane:20191206T173000
LOCATION:Rr. Ismail Qemali , Gate# 30 , Building#6 , Ap#8
DESCRIPTION: This is a FREE/by donation meditation session.  All levels are welcome.  No registration is required.  Meditation will be guided in the English language.
STATUS:CONFIRMED
SEQUENCE:0
END:VEVENT
END:VCALENDAR