BEGIN:VCALENDAR
VERSION:2.0
CALSCALE:GREGORIAN
BEGIN:VEVENT
SUMMARY:Slawomira&#039;s Vinyasa les
DTSTART;TZID=Europe/Amsterdam:20250922T190000
DTEND;TZID=Europe/Amsterdam:20250922T201500
LOCATION:Reeuwijk
DESCRIPTION: Wil jij een dynamische les, waarin je fysiek wordt uitgedaagd, kies dan voor deze les. De zonnegroet is kenmerkend voor de Vinyasa les van waaruit we werken naar verschillende staande houdingen. Bij de zittende houdingen aan het einde van de les is er meer tijd voor ontspanning. Deze les is niet direct aan te raden bij pols en-of schouderklachten. Bij twijfel altijd even vragen!
STATUS:CONFIRMED
SEQUENCE:0
END:VEVENT
END:VCALENDAR