BEGIN:VCALENDAR
VERSION:2.0
CALSCALE:GREGORIAN
BEGIN:VEVENT
SUMMARY:Octobre Rose Pilates
DTSTART;TZID=Europe/Paris:20241026T160000
DTEND;TZID=Europe/Paris:20241026T171500
LOCATION:studio toulsi
DESCRIPTION: Un cours de Pilates et une discussion spécifiques pour les personnes touchées par le cancer. Les frais seront entièrement reversés à la Ligue contre le cancer. Tout le monde est invité, quel que soit votre niveau!
STATUS:CONFIRMED
SEQUENCE:0
END:VEVENT
END:VCALENDAR