BEGIN:VCALENDAR
VERSION:2.0
CALSCALE:GREGORIAN
BEGIN:VEVENT
SUMMARY:Maderothérapie individuelle
DTSTART;TZID=Europe/Paris:20250908T140000
DTEND;TZID=Europe/Paris:20250908T145000
LOCATION:studio toulsi
DESCRIPTION: La Madero thérapie, c’est un massage drainant et sculptant réalisé avec des outils en bois spécialement conçus pour stimuler la circulation, réduire les tensions et aider à remodeler la silhouette.
Chaque séance est individuelle, personnalisée selon ton corps et tes besoins.
Et c’est Shirley qui prend soin de toi pour ce moment bien-être.
STATUS:CONFIRMED
SEQUENCE:0
END:VEVENT
END:VCALENDAR