BEGIN:VCALENDAR
VERSION:2.0
CALSCALE:GREGORIAN
BEGIN:VEVENT
SUMMARY:Heated Saturday Morning Sweat Flow
DTSTART;TZID=America/Chicago:20251220T071500
DTEND;TZID=America/Chicago:20251220T081500
LOCATION:430 1st Street
DESCRIPTION: Kick off your weekend with a feel-good, energizing flow that builds heat and leaves you refreshed for the day ahead. Every other session will include an optional weights component for anyone wanting a little extra strength work. Expect upbeat music, mindful movement, and a whole lot of “you time” to start Saturday strong.
STATUS:CONFIRMED
SEQUENCE:0
END:VEVENT
END:VCALENDAR